BEGIN:VCALENDAR
VERSION:2.0
PRODID:-//Turistička organizacija grada Prijedora - ECPv6.15.20//NONSGML v1.0//EN
CALSCALE:GREGORIAN
METHOD:PUBLISH
X-WR-CALNAME:Turistička organizacija grada Prijedora
X-ORIGINAL-URL:https://visitprijedor.com
X-WR-CALDESC:Events for Turistička organizacija grada Prijedora
REFRESH-INTERVAL;VALUE=DURATION:PT1H
X-Robots-Tag:noindex
X-PUBLISHED-TTL:PT1H
BEGIN:VTIMEZONE
TZID:UTC
BEGIN:STANDARD
TZOFFSETFROM:+0000
TZOFFSETTO:+0000
TZNAME:UTC
DTSTART:20230101T000000
END:STANDARD
END:VTIMEZONE
BEGIN:VEVENT
DTSTART;TZID=UTC:20240511T120000
DTEND;TZID=UTC:20240511T170000
DTSTAMP:20260420T004113
CREATED:20240424T075000Z
LAST-MODIFIED:20240424T075000Z
UID:3616-1715428800-1715446800@visitprijedor.com
SUMMARY:Festival voćne rakije i zdrave hrane "Zdravica"
DESCRIPTION:Poštovani sugrađani\, \nImamo čast najaviti prvi festival rakije u našem gradu! Ovaj događaj slavi bogatu tradiciju i kulturno nasljeđe našeg kraja kroz jedan od najomiljenijih lokalnih proizvoda – rakiju. \nPridružite nam se u subotu\, 11.05.2024.godine\, na Malom gradskom trgu  u Prijedoru\, gdje ćemo zajedno istražiti svijet rakije kroz degustacije najfinijih domaćih destilata\, radionice o umijeću destilacije te fascinantne priče o tradiciji naše regije. \nOsim toga\, očekujte i raznoliku ponudu gastronomskih delicija koje će upotpuniti vaše iskustvo uživanja u rakiji\, dok će nas muzičko-zabavni program zabavljati tokom cijelog dana. \nPridružite nam se na ovom jedinstvenom putovanju kroz okuse i mirise naše lokalne kulture na prvom festivalu rakije u našem gradu. Vidimo se tamo! \nS poštovanjem\, \nfestivalrakije\,rakijia\,rakijasi\,zabava\,prijedor\,dangrada \nOrganizacijski tim festivala rakije
URL:https://visitprijedor.com/event/festival-vocne-rakije-i-zdrave-hrane-zdravica/
END:VEVENT
BEGIN:VEVENT
DTSTART;TZID=UTC:20240324T080000
DTEND;TZID=UTC:20240324T160000
DTSTAMP:20260420T004113
CREATED:20240319T095506Z
LAST-MODIFIED:20240319T095939Z
UID:3421-1711267200-1711296000@visitprijedor.com
SUMMARY:Pozdrav proljeću
DESCRIPTION:PROGRAM POHODA (nedjelja\, 24. mart 2024. godine):\nI za planinare i građane Prijedora:\n1. 8:00 i 9:00 – polazak autobusa ispred sportske dvorane „Mladost“ u Prijedoru;\n2. 15:00 i 16:00 – povratak sa Mrakovice.\nII za planinare van Prijedora:\n1. 9:00 do 9:30 – dolazak u Rajkoviće (275 m n/v) i početak uspona;\n2. 9:00 do 13:00 – pješačenje stazom br. 3 preko Kozaračkog kamena (658 m n/v) do Mrakovice\n(802 m n/v) uz kraće odmore;\n3. 13:00 – dolazak prvih učesnika na Mrakovicu\, ručak;\n4. 13:30 – kulturno-zabavni program;\n5. 14:30 – dodjela zahvalnica;\n6. 16:00 – kraj manifestacije i povratak sa Mrakovice.\nOpšti uslovi za učešće: odlično zdravlje\, fizička kondicija i psihička stabilno
URL:https://visitprijedor.com/event/pozdrav-proljecu/
END:VEVENT
END:VCALENDAR